BEGIN:VCALENDAR
VERSION:2.0
PRODID:-//Bethel Bergthaler Mennonite Church - ECPv5.12.2//NONSGML v1.0//EN
CALSCALE:GREGORIAN
METHOD:PUBLISH
X-WR-CALNAME:Bethel Bergthaler Mennonite Church
X-ORIGINAL-URL:https://ourbethelchurch.com
X-WR-CALDESC:Events for Bethel Bergthaler Mennonite Church
BEGIN:VTIMEZONE
TZID:America/Winnipeg
BEGIN:DAYLIGHT
TZOFFSETFROM:-0600
TZOFFSETTO:-0500
TZNAME:CDT
DTSTART:20240310T080000
END:DAYLIGHT
BEGIN:STANDARD
TZOFFSETFROM:-0500
TZOFFSETTO:-0600
TZNAME:CST
DTSTART:20241103T070000
END:STANDARD
END:VTIMEZONE
BEGIN:VEVENT
DTSTART;TZID=America/Winnipeg:20241025T193000
DTEND;TZID=America/Winnipeg:20241025T213000
DTSTAMP:20260422T040530
CREATED:20241023T155942Z
LAST-MODIFIED:20241023T155942Z
UID:14299-1729884600-1729891800@ourbethelchurch.com
SUMMARY:Young Adults
DESCRIPTION:
URL:https://ourbethelchurch.com/event/young-adults-4/
CATEGORIES:Young Adults
END:VEVENT
END:VCALENDAR