BEGIN:VCALENDAR
VERSION:2.0
PRODID:-//Bethel Bergthaler Mennonite Church - ECPv5.12.2//NONSGML v1.0//EN
CALSCALE:GREGORIAN
METHOD:PUBLISH
X-WR-CALNAME:Bethel Bergthaler Mennonite Church
X-ORIGINAL-URL:https://ourbethelchurch.com
X-WR-CALDESC:Events for Bethel Bergthaler Mennonite Church
BEGIN:VTIMEZONE
TZID:America/Winnipeg
BEGIN:DAYLIGHT
TZOFFSETFROM:-0600
TZOFFSETTO:-0500
TZNAME:CDT
DTSTART:20250309T080000
END:DAYLIGHT
BEGIN:STANDARD
TZOFFSETFROM:-0500
TZOFFSETTO:-0600
TZNAME:CST
DTSTART:20251102T070000
END:STANDARD
END:VTIMEZONE
BEGIN:VEVENT
DTSTART;TZID=America/Winnipeg:20251121T193000
DTEND;TZID=America/Winnipeg:20251121T230000
DTSTAMP:20260421T052420
CREATED:20251014T150947Z
LAST-MODIFIED:20251014T150947Z
UID:15162-1763753400-1763766000@ourbethelchurch.com
SUMMARY:Young Adults
DESCRIPTION:
URL:https://ourbethelchurch.com/event/young-adults-35/
CATEGORIES:Young Adults
END:VEVENT
END:VCALENDAR