BEGIN:VCALENDAR
VERSION:2.0
PRODID:-//Bethel Bergthaler Mennonite Church - ECPv5.12.2//NONSGML v1.0//EN
CALSCALE:GREGORIAN
METHOD:PUBLISH
X-WR-CALNAME:Bethel Bergthaler Mennonite Church
X-ORIGINAL-URL:https://ourbethelchurch.com
X-WR-CALDESC:Events for Bethel Bergthaler Mennonite Church
BEGIN:VTIMEZONE
TZID:America/Winnipeg
BEGIN:DAYLIGHT
TZOFFSETFROM:-0600
TZOFFSETTO:-0500
TZNAME:CDT
DTSTART:20230312T080000
END:DAYLIGHT
BEGIN:STANDARD
TZOFFSETFROM:-0500
TZOFFSETTO:-0600
TZNAME:CST
DTSTART:20231105T070000
END:STANDARD
END:VTIMEZONE
BEGIN:VEVENT
DTSTART;TZID=America/Winnipeg:20230218T093000
DTEND;TZID=America/Winnipeg:20230218T233000
DTSTAMP:20260422T122319
CREATED:20230214T170313Z
LAST-MODIFIED:20230214T170324Z
UID:12746-1676712600-1676763000@ourbethelchurch.com
SUMMARY:Women's Prayer Breakfast
DESCRIPTION:Taking place Saturday February 18th at 9:30 am.  All are welcome!
URL:https://ourbethelchurch.com/event/womens-prayer-breakfast-2/
CATEGORIES:Women's Events
END:VEVENT
END:VCALENDAR