BEGIN:VCALENDAR
VERSION:2.0
PRODID:-//Bethel Bergthaler Mennonite Church - ECPv5.12.2//NONSGML v1.0//EN
CALSCALE:GREGORIAN
METHOD:PUBLISH
X-WR-CALNAME:Bethel Bergthaler Mennonite Church
X-ORIGINAL-URL:https://ourbethelchurch.com
X-WR-CALDESC:Events for Bethel Bergthaler Mennonite Church
BEGIN:VTIMEZONE
TZID:America/Winnipeg
BEGIN:DAYLIGHT
TZOFFSETFROM:-0600
TZOFFSETTO:-0500
TZNAME:CDT
DTSTART:20150308T080000
END:DAYLIGHT
BEGIN:STANDARD
TZOFFSETFROM:-0500
TZOFFSETTO:-0600
TZNAME:CST
DTSTART:20151101T070000
END:STANDARD
END:VTIMEZONE
BEGIN:VEVENT
DTSTART;TZID=America/Winnipeg:20150226T093000
DTEND;TZID=America/Winnipeg:20150226T093000
DTSTAMP:20260422T064209
CREATED:20150225T160249Z
LAST-MODIFIED:20210201T050318Z
UID:1292-1424943000-1424943000@ourbethelchurch.com
SUMMARY:Women's Morning Bible Study
DESCRIPTION:@ Ruth Toews’
URL:https://ourbethelchurch.com/event/womens-morning-bible-study-9/
CATEGORIES:Women's Events
END:VEVENT
END:VCALENDAR