BEGIN:VCALENDAR
VERSION:2.0
PRODID:-//Bethel Bergthaler Mennonite Church - ECPv5.12.2//NONSGML v1.0//EN
CALSCALE:GREGORIAN
METHOD:PUBLISH
X-WR-CALNAME:Bethel Bergthaler Mennonite Church
X-ORIGINAL-URL:https://ourbethelchurch.com
X-WR-CALDESC:Events for Bethel Bergthaler Mennonite Church
BEGIN:VTIMEZONE
TZID:America/Winnipeg
BEGIN:DAYLIGHT
TZOFFSETFROM:-0600
TZOFFSETTO:-0500
TZNAME:CDT
DTSTART:20190310T080000
END:DAYLIGHT
BEGIN:STANDARD
TZOFFSETFROM:-0500
TZOFFSETTO:-0600
TZNAME:CST
DTSTART:20191103T070000
END:STANDARD
END:VTIMEZONE
BEGIN:VEVENT
DTSTART;TZID=America/Winnipeg:20190406T090000
DTEND;TZID=America/Winnipeg:20190406T170000
DTSTAMP:20260421T112209
CREATED:20190307T153354Z
LAST-MODIFIED:20210201T045953Z
UID:6071-1554541200-1554570000@ourbethelchurch.com
SUMMARY:Women's Bible Study Workshop
DESCRIPTION:All ladies are invited to an inductive Bible Study Workshop.\nThis method (as taught by Jen Wilkin in her book Women of the Word) will equip you to confidently approach any passage of the Bible\, and know what it teaches you about God.\nThe workshop will be held from 9am-5pm.\nA registration fee of $20 will include lunch/refreshments and workbooks.\nIf you have any questions please speak to Michelle Derksen or Cheri Klassen for more info.
URL:https://ourbethelchurch.com/event/womens-bible-study-workshop/
CATEGORIES:Women's Events
END:VEVENT
END:VCALENDAR