BEGIN:VCALENDAR
VERSION:2.0
PRODID:-//Bethel Bergthaler Mennonite Church - ECPv5.12.2//NONSGML v1.0//EN
CALSCALE:GREGORIAN
METHOD:PUBLISH
X-WR-CALNAME:Bethel Bergthaler Mennonite Church
X-ORIGINAL-URL:https://ourbethelchurch.com
X-WR-CALDESC:Events for Bethel Bergthaler Mennonite Church
BEGIN:VTIMEZONE
TZID:America/Winnipeg
BEGIN:DAYLIGHT
TZOFFSETFROM:-0600
TZOFFSETTO:-0500
TZNAME:CDT
DTSTART:20210314T080000
END:DAYLIGHT
BEGIN:STANDARD
TZOFFSETFROM:-0500
TZOFFSETTO:-0600
TZNAME:CST
DTSTART:20211107T070000
END:STANDARD
END:VTIMEZONE
BEGIN:VEVENT
DTSTART;VALUE=DATE:20210927
DTEND;VALUE=DATE:20210928
DTSTAMP:20260423T224152
CREATED:20210921T151214Z
LAST-MODIFIED:20210921T151214Z
UID:11338-1632700800-1632787199@ourbethelchurch.com
SUMMARY:Women's Bible Study
DESCRIPTION:Women’s Bible Study Opportunity – Bethel Church will be hosting Bible Study Fellowship’s (BSF) bible class for women on Monday mornings in which we will be studying Matthew (the Unexpected King). This is an in-depth weekly bible class from September to May. BSF follows a 4-point study method of weekly questions\, group discussion\, lecture and lesson notes. For more information contact Cheri Klassen 204-332-1430 or johncheri@gmail.com\, there is limited space available to join. \n 
URL:https://ourbethelchurch.com/event/womens-bible-study-3/
CATEGORIES:Women's Events
END:VEVENT
END:VCALENDAR