BEGIN:VCALENDAR
VERSION:2.0
PRODID:-//Bethel Bergthaler Mennonite Church - ECPv5.12.2//NONSGML v1.0//EN
CALSCALE:GREGORIAN
METHOD:PUBLISH
X-WR-CALNAME:Bethel Bergthaler Mennonite Church
X-ORIGINAL-URL:https://ourbethelchurch.com
X-WR-CALDESC:Events for Bethel Bergthaler Mennonite Church
BEGIN:VTIMEZONE
TZID:America/Winnipeg
BEGIN:DAYLIGHT
TZOFFSETFROM:-0600
TZOFFSETTO:-0500
TZNAME:CDT
DTSTART:20180311T080000
END:DAYLIGHT
BEGIN:STANDARD
TZOFFSETFROM:-0500
TZOFFSETTO:-0600
TZNAME:CST
DTSTART:20181104T070000
END:STANDARD
END:VTIMEZONE
BEGIN:VEVENT
DTSTART;TZID=America/Winnipeg:20180730T190000
DTEND;TZID=America/Winnipeg:20180730T200000
DTSTAMP:20260422T105040
CREATED:20180725T155135Z
LAST-MODIFIED:20210201T050000Z
UID:5244-1532977200-1532980800@ourbethelchurch.com
SUMMARY:VBS Volunteer Meeting
DESCRIPTION:VBS volunteers information meeting on Monday\, July 30\, 7:00-8:00 PM in the MPR.\nIf you are volunteering\, please plan to attend as we will go through the positions and plans for the VBS week later in August.\nLet Pastor Mark know if you cannot attend
URL:https://ourbethelchurch.com/event/vbs-volunteer-meeting/
CATEGORIES:Meetings
END:VEVENT
END:VCALENDAR