BEGIN:VCALENDAR
VERSION:2.0
PRODID:-//Bethel Bergthaler Mennonite Church - ECPv5.12.2//NONSGML v1.0//EN
CALSCALE:GREGORIAN
METHOD:PUBLISH
X-WR-CALNAME:Bethel Bergthaler Mennonite Church
X-ORIGINAL-URL:https://ourbethelchurch.com
X-WR-CALDESC:Events for Bethel Bergthaler Mennonite Church
BEGIN:VTIMEZONE
TZID:America/Winnipeg
BEGIN:DAYLIGHT
TZOFFSETFROM:-0600
TZOFFSETTO:-0500
TZNAME:CDT
DTSTART:20200308T080000
END:DAYLIGHT
BEGIN:STANDARD
TZOFFSETFROM:-0500
TZOFFSETTO:-0600
TZNAME:CST
DTSTART:20201101T070000
END:STANDARD
END:VTIMEZONE
BEGIN:VEVENT
DTSTART;TZID=America/Winnipeg:20200222T183000
DTEND;TZID=America/Winnipeg:20200222T183000
DTSTAMP:20260425T164036
CREATED:20190919T145351Z
LAST-MODIFIED:20210201T045945Z
UID:6610-1582396200-1582396200@ourbethelchurch.com
SUMMARY:Valentine's Banquet
DESCRIPTION:
URL:https://ourbethelchurch.com/event/valentines-banquet/
CATEGORIES:Social Committee Events
END:VEVENT
END:VCALENDAR