BEGIN:VCALENDAR
VERSION:2.0
PRODID:-//Bethel Bergthaler Mennonite Church - ECPv5.12.2//NONSGML v1.0//EN
CALSCALE:GREGORIAN
METHOD:PUBLISH
X-WR-CALNAME:Bethel Bergthaler Mennonite Church
X-ORIGINAL-URL:https://ourbethelchurch.com
X-WR-CALDESC:Events for Bethel Bergthaler Mennonite Church
BEGIN:VTIMEZONE
TZID:America/Winnipeg
BEGIN:DAYLIGHT
TZOFFSETFROM:-0600
TZOFFSETTO:-0500
TZNAME:CDT
DTSTART:20150308T080000
END:DAYLIGHT
BEGIN:STANDARD
TZOFFSETFROM:-0500
TZOFFSETTO:-0600
TZNAME:CST
DTSTART:20151101T070000
END:STANDARD
END:VTIMEZONE
BEGIN:VEVENT
DTSTART;TZID=America/Winnipeg:20151009T193000
DTEND;TZID=America/Winnipeg:20151009T193000
DTSTAMP:20260421T051939
CREATED:20151002T181812Z
LAST-MODIFIED:20210201T050232Z
UID:1686-1444419000-1444419000@ourbethelchurch.com
SUMMARY:THRIVE!
DESCRIPTION:Introducing THRIVE!  This is the new name and program for our young adults (formerly known as College and Career).  It is our desire to encourage young adults to THRIVE in their walk with God and not simply survive.  It is open to those post high school to 30 years old.  We will have a mix of praise and worship nights\, regular service at Central Station\, and Bible studies.  Come and join us for our first praise and worship night on Friday\, Oct. 9 at 7:30 at the church.  Hope to see you there!
URL:https://ourbethelchurch.com/event/thrive/
CATEGORIES:Young Adults
END:VEVENT
END:VCALENDAR