BEGIN:VCALENDAR
VERSION:2.0
PRODID:-//Bethel Bergthaler Mennonite Church - ECPv5.12.2//NONSGML v1.0//EN
CALSCALE:GREGORIAN
METHOD:PUBLISH
X-WR-CALNAME:Bethel Bergthaler Mennonite Church
X-ORIGINAL-URL:https://ourbethelchurch.com
X-WR-CALDESC:Events for Bethel Bergthaler Mennonite Church
BEGIN:VTIMEZONE
TZID:America/Winnipeg
BEGIN:DAYLIGHT
TZOFFSETFROM:-0600
TZOFFSETTO:-0500
TZNAME:CDT
DTSTART:20180311T080000
END:DAYLIGHT
BEGIN:STANDARD
TZOFFSETFROM:-0500
TZOFFSETTO:-0600
TZNAME:CST
DTSTART:20181104T070000
END:STANDARD
END:VTIMEZONE
BEGIN:VEVENT
DTSTART;TZID=America/Winnipeg:20180628T190000
DTEND;TZID=America/Winnipeg:20180628T190000
DTSTAMP:20260423T103018
CREATED:20180621T154742Z
LAST-MODIFIED:20210201T050000Z
UID:4913-1530212400-1530212400@ourbethelchurch.com
SUMMARY:Thrive - Goldeyes Baseball
DESCRIPTION:We are heading to Winnipeg to watch a Goldeyes baseball game!\nWhether you come for the baseball\, the visiting\, or the ballpark snacks\, all are valid reasons to join us.\nThe game starts at 7:00 and the cost of a ticket is $23.50.\nPlease let Pastor Mark know if you plan to attend no later than Tuesday.\nIndicate if you would like a ride to the city or are meeting us at the ballpark.
URL:https://ourbethelchurch.com/event/thrive-goldeyes-baseball/
CATEGORIES:Young Adults
END:VEVENT
END:VCALENDAR