BEGIN:VCALENDAR
VERSION:2.0
PRODID:-//Bethel Bergthaler Mennonite Church - ECPv5.12.2//NONSGML v1.0//EN
CALSCALE:GREGORIAN
METHOD:PUBLISH
X-WR-CALNAME:Bethel Bergthaler Mennonite Church
X-ORIGINAL-URL:https://ourbethelchurch.com
X-WR-CALDESC:Events for Bethel Bergthaler Mennonite Church
BEGIN:VTIMEZONE
TZID:America/Winnipeg
BEGIN:DAYLIGHT
TZOFFSETFROM:-0600
TZOFFSETTO:-0500
TZNAME:CDT
DTSTART:20170312T080000
END:DAYLIGHT
BEGIN:STANDARD
TZOFFSETFROM:-0500
TZOFFSETTO:-0600
TZNAME:CST
DTSTART:20171105T070000
END:STANDARD
END:VTIMEZONE
BEGIN:VEVENT
DTSTART;TZID=America/Winnipeg:20170223T193000
DTEND;TZID=America/Winnipeg:20170223T193000
DTSTAMP:20260422T041609
CREATED:20170217T154137Z
LAST-MODIFIED:20170217T154137Z
UID:10565-1487878200-1487878200@ourbethelchurch.com
SUMMARY:Thrive
DESCRIPTION:Bible Study – Sharing what God is doing in your life\nQ&A time
URL:https://ourbethelchurch.com/event/thrive-18-2/
CATEGORIES:Young Adults
END:VEVENT
END:VCALENDAR