BEGIN:VCALENDAR
VERSION:2.0
PRODID:-//Bethel Bergthaler Mennonite Church - ECPv5.12.2//NONSGML v1.0//EN
CALSCALE:GREGORIAN
METHOD:PUBLISH
X-WR-CALNAME:Bethel Bergthaler Mennonite Church
X-ORIGINAL-URL:https://ourbethelchurch.com
X-WR-CALDESC:Events for Bethel Bergthaler Mennonite Church
BEGIN:VTIMEZONE
TZID:America/Winnipeg
BEGIN:DAYLIGHT
TZOFFSETFROM:-0600
TZOFFSETTO:-0500
TZNAME:CDT
DTSTART:20150308T080000
END:DAYLIGHT
BEGIN:STANDARD
TZOFFSETFROM:-0500
TZOFFSETTO:-0600
TZNAME:CST
DTSTART:20151101T070000
END:STANDARD
END:VTIMEZONE
BEGIN:VEVENT
DTSTART;TZID=America/Winnipeg:20151011T103000
DTEND;TZID=America/Winnipeg:20151011T103000
DTSTAMP:20260419T114549
CREATED:20151002T181705Z
LAST-MODIFIED:20151002T181705Z
UID:10007-1444559400-1444559400@ourbethelchurch.com
SUMMARY:Thanksgiving Service
DESCRIPTION:On Sunday\, Oct. 11 we will be having an open sharing time in place of a sermon\, for things we are thankful for. Prayerfully consider what YOU may share as thanks to God that morning. Due to the building project there will be no church Thanksgiving dinner this year.
URL:https://ourbethelchurch.com/event/thanksgiving-service-2/
CATEGORIES:Special Events
END:VEVENT
END:VCALENDAR