BEGIN:VCALENDAR
VERSION:2.0
PRODID:-//Bethel Bergthaler Mennonite Church - ECPv5.12.2//NONSGML v1.0//EN
CALSCALE:GREGORIAN
METHOD:PUBLISH
X-WR-CALNAME:Bethel Bergthaler Mennonite Church
X-ORIGINAL-URL:https://ourbethelchurch.com
X-WR-CALDESC:Events for Bethel Bergthaler Mennonite Church
BEGIN:VTIMEZONE
TZID:America/Winnipeg
BEGIN:DAYLIGHT
TZOFFSETFROM:-0600
TZOFFSETTO:-0500
TZNAME:CDT
DTSTART:20220313T080000
END:DAYLIGHT
BEGIN:STANDARD
TZOFFSETFROM:-0500
TZOFFSETTO:-0600
TZNAME:CST
DTSTART:20221106T070000
END:STANDARD
END:VTIMEZONE
BEGIN:VEVENT
DTSTART;TZID=America/Winnipeg:20220206T091500
DTEND;TZID=America/Winnipeg:20220206T103000
DTSTAMP:20260423T154237
CREATED:20220202T152628Z
LAST-MODIFIED:20220202T152628Z
UID:11822-1644138900-1644143400@ourbethelchurch.com
SUMMARY:Sunday School
DESCRIPTION:
URL:https://ourbethelchurch.com/event/sunday-school-9/
CATEGORIES:Sunday School
END:VEVENT
END:VCALENDAR