BEGIN:VCALENDAR
VERSION:2.0
PRODID:-//Bethel Bergthaler Mennonite Church - ECPv5.12.2//NONSGML v1.0//EN
CALSCALE:GREGORIAN
METHOD:PUBLISH
X-WR-CALNAME:Bethel Bergthaler Mennonite Church
X-ORIGINAL-URL:https://ourbethelchurch.com
X-WR-CALDESC:Events for Bethel Bergthaler Mennonite Church
BEGIN:VTIMEZONE
TZID:America/Winnipeg
BEGIN:DAYLIGHT
TZOFFSETFROM:-0600
TZOFFSETTO:-0500
TZNAME:CDT
DTSTART:20250309T080000
END:DAYLIGHT
BEGIN:STANDARD
TZOFFSETFROM:-0500
TZOFFSETTO:-0600
TZNAME:CST
DTSTART:20251102T070000
END:STANDARD
END:VTIMEZONE
BEGIN:VEVENT
DTSTART;TZID=America/Winnipeg:20250119T091500
DTEND;TZID=America/Winnipeg:20250119T101500
DTSTAMP:20260420T202227
CREATED:20241126T165824Z
LAST-MODIFIED:20241126T165824Z
UID:14361-1737278100-1737281700@ourbethelchurch.com
SUMMARY:Sunday School
DESCRIPTION:
URL:https://ourbethelchurch.com/event/sunday-school-50/
CATEGORIES:Sunday School
END:VEVENT
END:VCALENDAR