BEGIN:VCALENDAR
VERSION:2.0
PRODID:-//Bethel Bergthaler Mennonite Church - ECPv5.12.2//NONSGML v1.0//EN
CALSCALE:GREGORIAN
METHOD:PUBLISH
X-WR-CALNAME:Bethel Bergthaler Mennonite Church
X-ORIGINAL-URL:https://ourbethelchurch.com
X-WR-CALDESC:Events for Bethel Bergthaler Mennonite Church
BEGIN:VTIMEZONE
TZID:America/Winnipeg
BEGIN:DAYLIGHT
TZOFFSETFROM:-0600
TZOFFSETTO:-0500
TZNAME:CDT
DTSTART:20220313T080000
END:DAYLIGHT
BEGIN:STANDARD
TZOFFSETFROM:-0500
TZOFFSETTO:-0600
TZNAME:CST
DTSTART:20221106T070000
END:STANDARD
END:VTIMEZONE
BEGIN:VEVENT
DTSTART;TZID=America/Winnipeg:20220918T091500
DTEND;TZID=America/Winnipeg:20220918T101500
DTSTAMP:20260423T131517
CREATED:20220901T163645Z
LAST-MODIFIED:20220901T163645Z
UID:12308-1663492500-1663496100@ourbethelchurch.com
SUMMARY:Sunday School
DESCRIPTION:Sunday School Ages 3 and up.
URL:https://ourbethelchurch.com/event/sunday-school-22/
CATEGORIES:Sunday School
END:VEVENT
END:VCALENDAR