BEGIN:VCALENDAR
VERSION:2.0
PRODID:-//Bethel Bergthaler Mennonite Church - ECPv5.12.2//NONSGML v1.0//EN
CALSCALE:GREGORIAN
METHOD:PUBLISH
X-WR-CALNAME:Bethel Bergthaler Mennonite Church
X-ORIGINAL-URL:https://ourbethelchurch.com
X-WR-CALDESC:Events for Bethel Bergthaler Mennonite Church
BEGIN:VTIMEZONE
TZID:America/Winnipeg
BEGIN:DAYLIGHT
TZOFFSETFROM:-0600
TZOFFSETTO:-0500
TZNAME:CDT
DTSTART:20220313T080000
END:DAYLIGHT
BEGIN:STANDARD
TZOFFSETFROM:-0500
TZOFFSETTO:-0600
TZNAME:CST
DTSTART:20221106T070000
END:STANDARD
END:VTIMEZONE
BEGIN:VEVENT
DTSTART;TZID=America/Winnipeg:20220313T091500
DTEND;TZID=America/Winnipeg:20220313T101500
DTSTAMP:20260423T101002
CREATED:20220309T151245Z
LAST-MODIFIED:20220309T151245Z
UID:11944-1647162900-1647166500@ourbethelchurch.com
SUMMARY:Sunday School
DESCRIPTION:Adult Sunday School in the gym / Sunday School for ages 3-gr6 in the education wing
URL:https://ourbethelchurch.com/event/sunday-school-13/
CATEGORIES:Sunday School
END:VEVENT
END:VCALENDAR