BEGIN:VCALENDAR
VERSION:2.0
PRODID:-//Bethel Bergthaler Mennonite Church - ECPv5.12.2//NONSGML v1.0//EN
CALSCALE:GREGORIAN
METHOD:PUBLISH
X-WR-CALNAME:Bethel Bergthaler Mennonite Church
X-ORIGINAL-URL:https://ourbethelchurch.com
X-WR-CALDESC:Events for Bethel Bergthaler Mennonite Church
BEGIN:VTIMEZONE
TZID:America/Winnipeg
BEGIN:DAYLIGHT
TZOFFSETFROM:-0600
TZOFFSETTO:-0500
TZNAME:CDT
DTSTART:20220313T080000
END:DAYLIGHT
BEGIN:STANDARD
TZOFFSETFROM:-0500
TZOFFSETTO:-0600
TZNAME:CST
DTSTART:20221106T070000
END:STANDARD
END:VTIMEZONE
BEGIN:VEVENT
DTSTART;TZID=America/Winnipeg:20221207T093000
DTEND;TZID=America/Winnipeg:20221207T110000
DTSTAMP:20260422T154712
CREATED:20221130T143628Z
LAST-MODIFIED:20221130T143628Z
UID:12603-1670405400-1670410800@ourbethelchurch.com
SUMMARY:Stay & Play
DESCRIPTION:Stay & Play will take place in the church gym on Wednesday\, December 7th\, from 9:30am-11am. All moms and tots are welcome.
URL:https://ourbethelchurch.com/event/stay-play-2/
CATEGORIES:Women's Events
END:VEVENT
END:VCALENDAR