BEGIN:VCALENDAR
VERSION:2.0
PRODID:-//Bethel Bergthaler Mennonite Church - ECPv5.12.2//NONSGML v1.0//EN
CALSCALE:GREGORIAN
METHOD:PUBLISH
X-WR-CALNAME:Bethel Bergthaler Mennonite Church
X-ORIGINAL-URL:https://ourbethelchurch.com
X-WR-CALDESC:Events for Bethel Bergthaler Mennonite Church
BEGIN:VTIMEZONE
TZID:America/Winnipeg
BEGIN:DAYLIGHT
TZOFFSETFROM:-0600
TZOFFSETTO:-0500
TZNAME:CDT
DTSTART:20140309T080000
END:DAYLIGHT
BEGIN:STANDARD
TZOFFSETFROM:-0500
TZOFFSETTO:-0600
TZNAME:CST
DTSTART:20141102T070000
END:STANDARD
END:VTIMEZONE
BEGIN:VEVENT
DTSTART;TZID=America/Winnipeg:20141223T090000
DTEND;TZID=America/Winnipeg:20141223T120000
DTSTAMP:20260424T103337
CREATED:20141212T190735Z
LAST-MODIFIED:20210201T050321Z
UID:1086-1419325200-1419336000@ourbethelchurch.com
SUMMARY:SS Christmas Concert Practice
DESCRIPTION:Time:  9-12 \nThis practice is for kids from grade 1-6.
URL:https://ourbethelchurch.com/event/ss-christmas-concert-practice/
CATEGORIES:Special Events
END:VEVENT
END:VCALENDAR