BEGIN:VCALENDAR
VERSION:2.0
PRODID:-//Bethel Bergthaler Mennonite Church - ECPv5.12.2//NONSGML v1.0//EN
CALSCALE:GREGORIAN
METHOD:PUBLISH
X-WR-CALNAME:Bethel Bergthaler Mennonite Church
X-ORIGINAL-URL:https://ourbethelchurch.com
X-WR-CALDESC:Events for Bethel Bergthaler Mennonite Church
BEGIN:VTIMEZONE
TZID:America/Winnipeg
BEGIN:DAYLIGHT
TZOFFSETFROM:-0600
TZOFFSETTO:-0500
TZNAME:CDT
DTSTART:20140309T080000
END:DAYLIGHT
BEGIN:STANDARD
TZOFFSETFROM:-0500
TZOFFSETTO:-0600
TZNAME:CST
DTSTART:20141102T070000
END:STANDARD
END:VTIMEZONE
BEGIN:VEVENT
DTSTART;TZID=America/Winnipeg:20141215T183000
DTEND;TZID=America/Winnipeg:20141215T183000
DTSTAMP:20260422T115139
CREATED:20141212T180648Z
LAST-MODIFIED:20210201T050322Z
UID:1078-1418668200-1418668200@ourbethelchurch.com
SUMMARY:SR Youth Winter Wonderland Banquet
DESCRIPTION:Time: 6:30 pm
URL:https://ourbethelchurch.com/event/sr-youth-winter-wonderland-banquet/
CATEGORIES:Senior Youth
END:VEVENT
END:VCALENDAR