BEGIN:VCALENDAR
VERSION:2.0
PRODID:-//Bethel Bergthaler Mennonite Church - ECPv5.12.2//NONSGML v1.0//EN
CALSCALE:GREGORIAN
METHOD:PUBLISH
X-WR-CALNAME:Bethel Bergthaler Mennonite Church
X-ORIGINAL-URL:https://ourbethelchurch.com
X-WR-CALDESC:Events for Bethel Bergthaler Mennonite Church
BEGIN:VTIMEZONE
TZID:America/Winnipeg
BEGIN:DAYLIGHT
TZOFFSETFROM:-0600
TZOFFSETTO:-0500
TZNAME:CDT
DTSTART:20220313T080000
END:DAYLIGHT
BEGIN:STANDARD
TZOFFSETFROM:-0500
TZOFFSETTO:-0600
TZNAME:CST
DTSTART:20221106T070000
END:STANDARD
END:VTIMEZONE
BEGIN:VEVENT
DTSTART;TZID=America/Winnipeg:20220212T113000
DTEND;TZID=America/Winnipeg:20220212T200000
DTSTAMP:20260423T121714
CREATED:20220208T163524Z
LAST-MODIFIED:20220208T163524Z
UID:11844-1644665400-1644696000@ourbethelchurch.com
SUMMARY:Sr. Youth Tubing
DESCRIPTION:We will be going tubing at Valley View Bible Camp! We will meet at the church @ 11:30 and leave at 11:45. Eat before coming! We will have drinks and a wiener roast their around 4. Feel free to bring snacks for the ride! \nWe will arrive back around 8pm. We do ask that you wear a mask while in the vehicle. Contact Pastor Eli with questions or concerns!
URL:https://ourbethelchurch.com/event/sr-youth-tubing/
CATEGORIES:Senior Youth
END:VEVENT
END:VCALENDAR