BEGIN:VCALENDAR
VERSION:2.0
PRODID:-//Bethel Bergthaler Mennonite Church - ECPv5.12.2//NONSGML v1.0//EN
CALSCALE:GREGORIAN
METHOD:PUBLISH
X-WR-CALNAME:Bethel Bergthaler Mennonite Church
X-ORIGINAL-URL:https://ourbethelchurch.com
X-WR-CALDESC:Events for Bethel Bergthaler Mennonite Church
BEGIN:VTIMEZONE
TZID:America/Winnipeg
BEGIN:DAYLIGHT
TZOFFSETFROM:-0600
TZOFFSETTO:-0500
TZNAME:CDT
DTSTART:20170312T080000
END:DAYLIGHT
BEGIN:STANDARD
TZOFFSETFROM:-0500
TZOFFSETTO:-0600
TZNAME:CST
DTSTART:20171105T070000
END:STANDARD
END:VTIMEZONE
BEGIN:VEVENT
DTSTART;TZID=America/Winnipeg:20170116T190000
DTEND;TZID=America/Winnipeg:20170116T190000
DTSTAMP:20260422T170500
CREATED:20170112T164011Z
LAST-MODIFIED:20170112T164011Z
UID:10498-1484593200-1484593200@ourbethelchurch.com
SUMMARY:SR Youth - Board Games Night
DESCRIPTION:
URL:https://ourbethelchurch.com/event/sr-youth-board-games-night-2/
CATEGORIES:Senior Youth
END:VEVENT
END:VCALENDAR