BEGIN:VCALENDAR
VERSION:2.0
PRODID:-//Bethel Bergthaler Mennonite Church - ECPv5.12.2//NONSGML v1.0//EN
CALSCALE:GREGORIAN
METHOD:PUBLISH
X-WR-CALNAME:Bethel Bergthaler Mennonite Church
X-ORIGINAL-URL:https://ourbethelchurch.com
X-WR-CALDESC:Events for Bethel Bergthaler Mennonite Church
BEGIN:VTIMEZONE
TZID:America/Winnipeg
BEGIN:DAYLIGHT
TZOFFSETFROM:-0600
TZOFFSETTO:-0500
TZNAME:CDT
DTSTART:20230312T080000
END:DAYLIGHT
BEGIN:STANDARD
TZOFFSETFROM:-0500
TZOFFSETTO:-0600
TZNAME:CST
DTSTART:20231105T070000
END:STANDARD
END:VTIMEZONE
BEGIN:VEVENT
DTSTART;TZID=America/Winnipeg:20230918T173000
DTEND;TZID=America/Winnipeg:20230918T213000
DTSTAMP:20260424T171953
CREATED:20230824T140111Z
LAST-MODIFIED:20230824T140111Z
UID:13057-1695058200-1695072600@ourbethelchurch.com
SUMMARY:Sr. Youth
DESCRIPTION:Amazing Race! Meet at Bethel for an awesome adventure! Supper is included.
URL:https://ourbethelchurch.com/event/sr-youth-122/
CATEGORIES:Senior Youth
END:VEVENT
END:VCALENDAR