BEGIN:VCALENDAR
VERSION:2.0
PRODID:-//Bethel Bergthaler Mennonite Church - ECPv5.12.2//NONSGML v1.0//EN
CALSCALE:GREGORIAN
METHOD:PUBLISH
X-WR-CALNAME:Bethel Bergthaler Mennonite Church
X-ORIGINAL-URL:https://ourbethelchurch.com
X-WR-CALDESC:Events for Bethel Bergthaler Mennonite Church
BEGIN:VTIMEZONE
TZID:America/Winnipeg
BEGIN:DAYLIGHT
TZOFFSETFROM:-0600
TZOFFSETTO:-0500
TZNAME:CDT
DTSTART:20180311T080000
END:DAYLIGHT
BEGIN:STANDARD
TZOFFSETFROM:-0500
TZOFFSETTO:-0600
TZNAME:CST
DTSTART:20181104T070000
END:STANDARD
END:VTIMEZONE
BEGIN:VEVENT
DTSTART;TZID=America/Winnipeg:20180620T114500
DTEND;TZID=America/Winnipeg:20180620T114500
DTSTAMP:20260423T203616
CREATED:20180606T144622Z
LAST-MODIFIED:20210201T050000Z
UID:4801-1529495100-1529495100@ourbethelchurch.com
SUMMARY:Randy & Cindy's Care Group @ Sarah Buhler's
DESCRIPTION:Our next and final Care Group gathering until fall will be @ 11:45 at Sarah Buhler’s.\n Lunch and fellowship.
URL:https://ourbethelchurch.com/event/randy-cindys-care-group-sarah-buhlers-14/
CATEGORIES:Care Groups
END:VEVENT
END:VCALENDAR