BEGIN:VCALENDAR
VERSION:2.0
PRODID:-//Bethel Bergthaler Mennonite Church - ECPv5.12.2//NONSGML v1.0//EN
CALSCALE:GREGORIAN
METHOD:PUBLISH
X-WR-CALNAME:Bethel Bergthaler Mennonite Church
X-ORIGINAL-URL:https://ourbethelchurch.com
X-WR-CALDESC:Events for Bethel Bergthaler Mennonite Church
BEGIN:VTIMEZONE
TZID:America/Winnipeg
BEGIN:DAYLIGHT
TZOFFSETFROM:-0600
TZOFFSETTO:-0500
TZNAME:CDT
DTSTART:20160313T080000
END:DAYLIGHT
BEGIN:STANDARD
TZOFFSETFROM:-0500
TZOFFSETTO:-0600
TZNAME:CST
DTSTART:20161106T070000
END:STANDARD
END:VTIMEZONE
BEGIN:VEVENT
DTSTART;TZID=America/Winnipeg:20160928T140000
DTEND;TZID=America/Winnipeg:20160928T140000
DTSTAMP:20260423T004507
CREATED:20160923T182538Z
LAST-MODIFIED:20160923T182538Z
UID:10360-1475071200-1475071200@ourbethelchurch.com
SUMMARY:Randy & Cindy's Care Group
DESCRIPTION:@ Sarah Buhler’s
URL:https://ourbethelchurch.com/event/randy-cindys-care-group-15-2/
CATEGORIES:Care Groups
END:VEVENT
END:VCALENDAR