BEGIN:VCALENDAR
VERSION:2.0
PRODID:-//Bethel Bergthaler Mennonite Church - ECPv5.12.2//NONSGML v1.0//EN
CALSCALE:GREGORIAN
METHOD:PUBLISH
X-WR-CALNAME:Bethel Bergthaler Mennonite Church
X-ORIGINAL-URL:https://ourbethelchurch.com
X-WR-CALDESC:Events for Bethel Bergthaler Mennonite Church
BEGIN:VTIMEZONE
TZID:America/Winnipeg
BEGIN:DAYLIGHT
TZOFFSETFROM:-0600
TZOFFSETTO:-0500
TZNAME:CDT
DTSTART:20140309T080000
END:DAYLIGHT
BEGIN:STANDARD
TZOFFSETFROM:-0500
TZOFFSETTO:-0600
TZNAME:CST
DTSTART:20141102T070000
END:STANDARD
END:VTIMEZONE
BEGIN:VEVENT
DTSTART;TZID=America/Winnipeg:20141205T193000
DTEND;TZID=America/Winnipeg:20141205T193000
DTSTAMP:20260422T040838
CREATED:20141128T210933Z
LAST-MODIFIED:20141128T210933Z
UID:9690-1417807800-1417807800@ourbethelchurch.com
SUMMARY:Praise & Worship Night
DESCRIPTION:Time:  7:30 PM\nInviting all adults (18-30 years old or so) to join us for a time of Praise & Worship!
URL:https://ourbethelchurch.com/event/praise-worship-night-3/
CATEGORIES:Special Events
END:VEVENT
END:VCALENDAR