BEGIN:VCALENDAR
VERSION:2.0
PRODID:-//Bethel Bergthaler Mennonite Church - ECPv5.12.2//NONSGML v1.0//EN
CALSCALE:GREGORIAN
METHOD:PUBLISH
X-WR-CALNAME:Bethel Bergthaler Mennonite Church
X-ORIGINAL-URL:https://ourbethelchurch.com
X-WR-CALDESC:Events for Bethel Bergthaler Mennonite Church
BEGIN:VTIMEZONE
TZID:America/Winnipeg
BEGIN:DAYLIGHT
TZOFFSETFROM:-0600
TZOFFSETTO:-0500
TZNAME:CDT
DTSTART:20230312T080000
END:DAYLIGHT
BEGIN:STANDARD
TZOFFSETFROM:-0500
TZOFFSETTO:-0600
TZNAME:CST
DTSTART:20231105T070000
END:STANDARD
END:VTIMEZONE
BEGIN:VEVENT
DTSTART;TZID=America/Winnipeg:20231016T190000
DTEND;TZID=America/Winnipeg:20231016T213000
DTSTAMP:20260422T000322
CREATED:20230824T140522Z
LAST-MODIFIED:20230824T140620Z
UID:13067-1697482800-1697491800@ourbethelchurch.com
SUMMARY:Sr. Youth
DESCRIPTION:Bible Study
URL:https://ourbethelchurch.com/event/no-sr-youth-12/
CATEGORIES:Senior Youth
END:VEVENT
END:VCALENDAR