BEGIN:VCALENDAR
VERSION:2.0
PRODID:-//Bethel Bergthaler Mennonite Church - ECPv5.12.2//NONSGML v1.0//EN
CALSCALE:GREGORIAN
METHOD:PUBLISH
X-WR-CALNAME:Bethel Bergthaler Mennonite Church
X-ORIGINAL-URL:https://ourbethelchurch.com
X-WR-CALDESC:Events for Bethel Bergthaler Mennonite Church
BEGIN:VTIMEZONE
TZID:America/Winnipeg
BEGIN:DAYLIGHT
TZOFFSETFROM:-0600
TZOFFSETTO:-0500
TZNAME:CDT
DTSTART:20150308T080000
END:DAYLIGHT
BEGIN:STANDARD
TZOFFSETFROM:-0500
TZOFFSETTO:-0600
TZNAME:CST
DTSTART:20151101T070000
END:STANDARD
END:VTIMEZONE
BEGIN:VEVENT
DTSTART;VALUE=DATE:20150101
DTEND;VALUE=DATE:20150102
DTSTAMP:20260425T125702
CREATED:20141212T191343Z
LAST-MODIFIED:20210201T050321Z
UID:1089-1420070400-1420156799@ourbethelchurch.com
SUMMARY:New Year's Day Breakfast & Service
DESCRIPTION:Time:  9-10AM\nFollowing breakfast will be a time of sharing.\nCome join us as we give God praise for what He has done and trusting Him for the coming year.
URL:https://ourbethelchurch.com/event/new-years-day-breakfast-service/
CATEGORIES:Special Events
END:VEVENT
END:VCALENDAR