BEGIN:VCALENDAR
VERSION:2.0
PRODID:-//Bethel Bergthaler Mennonite Church - ECPv5.12.2//NONSGML v1.0//EN
CALSCALE:GREGORIAN
METHOD:PUBLISH
X-WR-CALNAME:Bethel Bergthaler Mennonite Church
X-ORIGINAL-URL:https://ourbethelchurch.com
X-WR-CALDESC:Events for Bethel Bergthaler Mennonite Church
BEGIN:VTIMEZONE
TZID:America/Winnipeg
BEGIN:DAYLIGHT
TZOFFSETFROM:-0600
TZOFFSETTO:-0500
TZNAME:CDT
DTSTART:20150308T080000
END:DAYLIGHT
BEGIN:STANDARD
TZOFFSETFROM:-0500
TZOFFSETTO:-0600
TZNAME:CST
DTSTART:20151101T070000
END:STANDARD
END:VTIMEZONE
BEGIN:VEVENT
DTSTART;TZID=America/Winnipeg:20150922T093000
DTEND;TZID=America/Winnipeg:20150922T093000
DTSTAMP:20260423T074925
CREATED:20150911T194706Z
LAST-MODIFIED:20210201T050232Z
UID:1638-1442914200-1442914200@ourbethelchurch.com
SUMMARY:MOM's Morning
DESCRIPTION:Inviting all moms to join us as we kick off our MOM’s mornings at 9:30 am at the church.  We will be taking a look at The Twelve Women of the Bible by Lysa TerKeurst.  We meet every other Tuesday morning for a time of encouragement and fellowship with child care provided.
URL:https://ourbethelchurch.com/event/moms-morning-19/
CATEGORIES:Women's Events
END:VEVENT
END:VCALENDAR