BEGIN:VCALENDAR
VERSION:2.0
PRODID:-//Bethel Bergthaler Mennonite Church - ECPv5.12.2//NONSGML v1.0//EN
CALSCALE:GREGORIAN
METHOD:PUBLISH
X-WR-CALNAME:Bethel Bergthaler Mennonite Church
X-ORIGINAL-URL:https://ourbethelchurch.com
X-WR-CALDESC:Events for Bethel Bergthaler Mennonite Church
BEGIN:VTIMEZONE
TZID:America/Winnipeg
BEGIN:DAYLIGHT
TZOFFSETFROM:-0600
TZOFFSETTO:-0500
TZNAME:CDT
DTSTART:20200308T080000
END:DAYLIGHT
BEGIN:STANDARD
TZOFFSETFROM:-0500
TZOFFSETTO:-0600
TZNAME:CST
DTSTART:20201101T070000
END:STANDARD
END:VTIMEZONE
BEGIN:VEVENT
DTSTART;TZID=America/Winnipeg:20201101T090000
DTEND;TZID=America/Winnipeg:20201101T120000
DTSTAMP:20260424T213155
CREATED:20201023T183256Z
LAST-MODIFIED:20210201T045943Z
UID:7875-1604221200-1604232000@ourbethelchurch.com
SUMMARY:Messenger - Jordan St. Cyr w/ Compassion Canada
DESCRIPTION:Compassion Canada\, one of the world’s leading child development organizations to end poverty in the lives of children and their families\, will be joining us this morning. Singer/song writer\, Jordan St. Cyr will be our speaker. He was nominated for 8 GMA Covenant Awards (2019) and walked away with 5.  Jordan\, his wife Heather and their four children make their home in Niverville.
URL:https://ourbethelchurch.com/event/messenger-jordan-st-cyr-w-compassion-canada/
CATEGORIES:Sunday Service
END:VEVENT
END:VCALENDAR