BEGIN:VCALENDAR
VERSION:2.0
PRODID:-//Bethel Bergthaler Mennonite Church - ECPv5.12.2//NONSGML v1.0//EN
CALSCALE:GREGORIAN
METHOD:PUBLISH
X-WR-CALNAME:Bethel Bergthaler Mennonite Church
X-ORIGINAL-URL:https://ourbethelchurch.com
X-WR-CALDESC:Events for Bethel Bergthaler Mennonite Church
BEGIN:VTIMEZONE
TZID:America/Winnipeg
BEGIN:DAYLIGHT
TZOFFSETFROM:-0600
TZOFFSETTO:-0500
TZNAME:CDT
DTSTART:20150308T080000
END:DAYLIGHT
BEGIN:STANDARD
TZOFFSETFROM:-0500
TZOFFSETTO:-0600
TZNAME:CST
DTSTART:20151101T070000
END:STANDARD
END:VTIMEZONE
BEGIN:VEVENT
DTSTART;TZID=America/Winnipeg:20150609T063000
DTEND;TZID=America/Winnipeg:20150609T063000
DTSTAMP:20260422T113519
CREATED:20150603T194137Z
LAST-MODIFIED:20150603T194137Z
UID:1494-1433831400-1433831400@ourbethelchurch.com
SUMMARY:Men's Prayer Breakfast
DESCRIPTION:Location:  Church
URL:https://ourbethelchurch.com/event/mens-prayer-breakfast-35/
CATEGORIES:Men's Events
END:VEVENT
END:VCALENDAR