BEGIN:VCALENDAR
VERSION:2.0
PRODID:-//Bethel Bergthaler Mennonite Church - ECPv5.12.2//NONSGML v1.0//EN
CALSCALE:GREGORIAN
METHOD:PUBLISH
X-WR-CALNAME:Bethel Bergthaler Mennonite Church
X-ORIGINAL-URL:https://ourbethelchurch.com
X-WR-CALDESC:Events for Bethel Bergthaler Mennonite Church
BEGIN:VTIMEZONE
TZID:America/Winnipeg
BEGIN:DAYLIGHT
TZOFFSETFROM:-0600
TZOFFSETTO:-0500
TZNAME:CDT
DTSTART:20230312T080000
END:DAYLIGHT
BEGIN:STANDARD
TZOFFSETFROM:-0500
TZOFFSETTO:-0600
TZNAME:CST
DTSTART:20231105T070000
END:STANDARD
END:VTIMEZONE
BEGIN:VEVENT
DTSTART;TZID=America/Winnipeg:20230121T073000
DTEND;TZID=America/Winnipeg:20230121T110000
DTSTAMP:20260421T064319
CREATED:20230117T153118Z
LAST-MODIFIED:20230117T153118Z
UID:12702-1674286200-1674298800@ourbethelchurch.com
SUMMARY:Men's Prayer Breakfast
DESCRIPTION:Men’s Prayer Breakfast All are welcome \nIn the youth room
URL:https://ourbethelchurch.com/event/mens-prayer-breakfast-120/
CATEGORIES:Men's Events
END:VEVENT
END:VCALENDAR