BEGIN:VCALENDAR
VERSION:2.0
PRODID:-//Bethel Bergthaler Mennonite Church - ECPv5.12.2//NONSGML v1.0//EN
CALSCALE:GREGORIAN
METHOD:PUBLISH
X-WR-CALNAME:Bethel Bergthaler Mennonite Church
X-ORIGINAL-URL:https://ourbethelchurch.com
X-WR-CALDESC:Events for Bethel Bergthaler Mennonite Church
BEGIN:VTIMEZONE
TZID:America/Winnipeg
BEGIN:DAYLIGHT
TZOFFSETFROM:-0600
TZOFFSETTO:-0500
TZNAME:CDT
DTSTART:20140309T080000
END:DAYLIGHT
BEGIN:STANDARD
TZOFFSETFROM:-0500
TZOFFSETTO:-0600
TZNAME:CST
DTSTART:20141102T070000
END:STANDARD
END:VTIMEZONE
BEGIN:VEVENT
DTSTART;TZID=America/Winnipeg:20141216T063000
DTEND;TZID=America/Winnipeg:20141216T063000
DTSTAMP:20260422T210217
CREATED:20141212T185306Z
LAST-MODIFIED:20210201T050322Z
UID:1081-1418711400-1418711400@ourbethelchurch.com
SUMMARY:Men's Prayer Breakfast
DESCRIPTION:Time:  6:30 am\nLocation: Church
URL:https://ourbethelchurch.com/event/mens-prayer-breakfast-12/
CATEGORIES:Men's Events
END:VEVENT
END:VCALENDAR