BEGIN:VCALENDAR
VERSION:2.0
PRODID:-//Bethel Bergthaler Mennonite Church - ECPv5.12.2//NONSGML v1.0//EN
CALSCALE:GREGORIAN
METHOD:PUBLISH
X-WR-CALNAME:Bethel Bergthaler Mennonite Church
X-ORIGINAL-URL:https://ourbethelchurch.com
X-WR-CALDESC:Events for Bethel Bergthaler Mennonite Church
BEGIN:VTIMEZONE
TZID:America/Winnipeg
BEGIN:DAYLIGHT
TZOFFSETFROM:-0600
TZOFFSETTO:-0500
TZNAME:CDT
DTSTART:20230312T080000
END:DAYLIGHT
BEGIN:STANDARD
TZOFFSETFROM:-0500
TZOFFSETTO:-0600
TZNAME:CST
DTSTART:20231105T070000
END:STANDARD
END:VTIMEZONE
BEGIN:VEVENT
DTSTART;TZID=America/Winnipeg:20231208T080000
DTEND;TZID=America/Winnipeg:20231208T170000
DTSTAMP:20260421T143013
CREATED:20231012T182543Z
LAST-MODIFIED:20231012T182543Z
UID:13358-1702022400-1702054800@ourbethelchurch.com
SUMMARY:Men's Floor Hockey
DESCRIPTION:Men please consider coming out for an evening of floor hockey drinks and snacks on Friday December 8 . \nThis event will be open to men age 16 and up. \nPlease be sure to bring non marking shoes and a stick without tape.
URL:https://ourbethelchurch.com/event/mens-floor-hockey-5/
CATEGORIES:Men's Events
END:VEVENT
END:VCALENDAR