BEGIN:VCALENDAR
VERSION:2.0
PRODID:-//Bethel Bergthaler Mennonite Church - ECPv5.12.2//NONSGML v1.0//EN
CALSCALE:GREGORIAN
METHOD:PUBLISH
X-WR-CALNAME:Bethel Bergthaler Mennonite Church
X-ORIGINAL-URL:https://ourbethelchurch.com
X-WR-CALDESC:Events for Bethel Bergthaler Mennonite Church
BEGIN:VTIMEZONE
TZID:America/Winnipeg
BEGIN:DAYLIGHT
TZOFFSETFROM:-0600
TZOFFSETTO:-0500
TZNAME:CDT
DTSTART:20230312T080000
END:DAYLIGHT
BEGIN:STANDARD
TZOFFSETFROM:-0500
TZOFFSETTO:-0600
TZNAME:CST
DTSTART:20231105T070000
END:STANDARD
END:VTIMEZONE
BEGIN:VEVENT
DTSTART;TZID=America/Winnipeg:20231108T063000
DTEND;TZID=America/Winnipeg:20231108T073000
DTSTAMP:20260421T180436
CREATED:20231017T161345Z
LAST-MODIFIED:20231017T161345Z
UID:13388-1699425000-1699428600@ourbethelchurch.com
SUMMARY:Men's Bible Study
DESCRIPTION:
URL:https://ourbethelchurch.com/event/mens-bible-study-4/
CATEGORIES:Men's Events
END:VEVENT
END:VCALENDAR