BEGIN:VCALENDAR
VERSION:2.0
PRODID:-//Bethel Bergthaler Mennonite Church - ECPv5.12.2//NONSGML v1.0//EN
CALSCALE:GREGORIAN
METHOD:PUBLISH
X-WR-CALNAME:Bethel Bergthaler Mennonite Church
X-ORIGINAL-URL:https://ourbethelchurch.com
X-WR-CALDESC:Events for Bethel Bergthaler Mennonite Church
BEGIN:VTIMEZONE
TZID:America/Winnipeg
BEGIN:DAYLIGHT
TZOFFSETFROM:-0600
TZOFFSETTO:-0500
TZNAME:CDT
DTSTART:20200308T080000
END:DAYLIGHT
BEGIN:STANDARD
TZOFFSETFROM:-0500
TZOFFSETTO:-0600
TZNAME:CST
DTSTART:20201101T070000
END:STANDARD
END:VTIMEZONE
BEGIN:VEVENT
DTSTART;TZID=America/Winnipeg:20201102T190000
DTEND;TZID=America/Winnipeg:20201102T190000
DTSTAMP:20260424T213820
CREATED:20201016T162328Z
LAST-MODIFIED:20210201T045943Z
UID:7838-1604343600-1604343600@ourbethelchurch.com
SUMMARY:Ladies Event - "Sing to the Lord with Thanksgiving"
DESCRIPTION:Ladies Worship Night at 7:00 pm. Let’s praise the Lord together in song\, and hear what God has done in the fostering and adoption journeys of Vanessa Giesbrecht and Martha Peters! Also\, enjoy food and beverages provided by Legends Bakery and Other Brother Roasters.
URL:https://ourbethelchurch.com/event/ladies-event-sing-to-the-lord-with-thanksgiving/
CATEGORIES:Women's Events
END:VEVENT
END:VCALENDAR