BEGIN:VCALENDAR
VERSION:2.0
PRODID:-//Bethel Bergthaler Mennonite Church - ECPv5.12.2//NONSGML v1.0//EN
CALSCALE:GREGORIAN
METHOD:PUBLISH
X-WR-CALNAME:Bethel Bergthaler Mennonite Church
X-ORIGINAL-URL:https://ourbethelchurch.com
X-WR-CALDESC:Events for Bethel Bergthaler Mennonite Church
BEGIN:VTIMEZONE
TZID:America/Winnipeg
BEGIN:DAYLIGHT
TZOFFSETFROM:-0600
TZOFFSETTO:-0500
TZNAME:CDT
DTSTART:20210314T080000
END:DAYLIGHT
BEGIN:STANDARD
TZOFFSETFROM:-0500
TZOFFSETTO:-0600
TZNAME:CST
DTSTART:20211107T070000
END:STANDARD
END:VTIMEZONE
BEGIN:VEVENT
DTSTART;TZID=America/Winnipeg:20211109T190000
DTEND;TZID=America/Winnipeg:20211109T203000
DTSTAMP:20260422T102315
CREATED:20211028T150627Z
LAST-MODIFIED:20211028T150627Z
UID:11459-1636484400-1636489800@ourbethelchurch.com
SUMMARY:Ladies Bible Study
DESCRIPTION:MPR
URL:https://ourbethelchurch.com/event/ladies-bible-study-5/
CATEGORIES:Women's Events
END:VEVENT
END:VCALENDAR