BEGIN:VCALENDAR
VERSION:2.0
PRODID:-//Bethel Bergthaler Mennonite Church - ECPv5.12.2//NONSGML v1.0//EN
CALSCALE:GREGORIAN
METHOD:PUBLISH
X-WR-CALNAME:Bethel Bergthaler Mennonite Church
X-ORIGINAL-URL:https://ourbethelchurch.com
X-WR-CALDESC:Events for Bethel Bergthaler Mennonite Church
BEGIN:VTIMEZONE
TZID:America/Winnipeg
BEGIN:DAYLIGHT
TZOFFSETFROM:-0600
TZOFFSETTO:-0500
TZNAME:CDT
DTSTART:20230312T080000
END:DAYLIGHT
BEGIN:STANDARD
TZOFFSETFROM:-0500
TZOFFSETTO:-0600
TZNAME:CST
DTSTART:20231105T070000
END:STANDARD
END:VTIMEZONE
BEGIN:VEVENT
DTSTART;TZID=America/Winnipeg:20230926T090000
DTEND;TZID=America/Winnipeg:20230926T110000
DTSTAMP:20260422T143332
CREATED:20230908T162225Z
LAST-MODIFIED:20230908T162225Z
UID:13126-1695718800-1695726000@ourbethelchurch.com
SUMMARY:Ladies Bible Study
DESCRIPTION:Sign up for Tuesday Ladies Bible Study. Starting Tuesday Sept 26th at 9:30am\, we will do a video series Mom Struggles from RightNow Media. Child care will be provided. Tuesday evening at 7pm will study Psalms\, As for me by Adrienne Camp. Sign up on the back table. Contact Judy Gislason at judy.gislason@yahoo.com for more information or to volunteer for child care. \n 
URL:https://ourbethelchurch.com/event/ladies-bible-study-18/
CATEGORIES:Women's Events
END:VEVENT
END:VCALENDAR