BEGIN:VCALENDAR
VERSION:2.0
PRODID:-//Bethel Bergthaler Mennonite Church - ECPv5.12.2//NONSGML v1.0//EN
CALSCALE:GREGORIAN
METHOD:PUBLISH
X-WR-CALNAME:Bethel Bergthaler Mennonite Church
X-ORIGINAL-URL:https://ourbethelchurch.com
X-WR-CALDESC:Events for Bethel Bergthaler Mennonite Church
BEGIN:VTIMEZONE
TZID:America/Winnipeg
BEGIN:DAYLIGHT
TZOFFSETFROM:-0600
TZOFFSETTO:-0500
TZNAME:CDT
DTSTART:20200308T080000
END:DAYLIGHT
BEGIN:STANDARD
TZOFFSETFROM:-0500
TZOFFSETTO:-0600
TZNAME:CST
DTSTART:20201101T070000
END:STANDARD
END:VTIMEZONE
BEGIN:VEVENT
DTSTART;TZID=America/Winnipeg:20201006T183000
DTEND;TZID=America/Winnipeg:20201006T210000
DTSTAMP:20260423T113531
CREATED:20201002T163250Z
LAST-MODIFIED:20210201T045944Z
UID:7774-1602009000-1602018000@ourbethelchurch.com
SUMMARY:Junior Youth - Food Drive
DESCRIPTION:Bethel’s Youth Groups will be going on a FOOD DRIVE for Winkler Food Cupboard.  The Senior Youth will be meeting at church on Monday\, Oct. 5 at 6:45pm and collecting in Schanzenfeld while the Junior Youth will be meeting at church on Tuesday\, Oct. 6 at 6:30pm and collecting in Reinfeld.  Donations can also be dropped off at the church in the foyer until Oct. 14.  The main items in need are: peanut butter\, luncheon meat\, spaghetti\, pasta\, cereal\, and jam.  Due to so many youth\, we need a few more vehicles and drivers for those evenings.  Please sign up if you can help in this area on the sheet in the back by the mailboxes.
URL:https://ourbethelchurch.com/event/junior-youth-food-drive/
CATEGORIES:Junior Youth
END:VEVENT
END:VCALENDAR