BEGIN:VCALENDAR
VERSION:2.0
PRODID:-//Bethel Bergthaler Mennonite Church - ECPv5.12.2//NONSGML v1.0//EN
CALSCALE:GREGORIAN
METHOD:PUBLISH
X-WR-CALNAME:Bethel Bergthaler Mennonite Church
X-ORIGINAL-URL:https://ourbethelchurch.com
X-WR-CALDESC:Events for Bethel Bergthaler Mennonite Church
BEGIN:VTIMEZONE
TZID:America/Winnipeg
BEGIN:DAYLIGHT
TZOFFSETFROM:-0600
TZOFFSETTO:-0500
TZNAME:CDT
DTSTART:20210314T080000
END:DAYLIGHT
BEGIN:STANDARD
TZOFFSETFROM:-0500
TZOFFSETTO:-0600
TZNAME:CST
DTSTART:20211107T070000
END:STANDARD
END:VTIMEZONE
BEGIN:VEVENT
DTSTART;TZID=America/Winnipeg:20210928T190000
DTEND;TZID=America/Winnipeg:20210928T210000
DTSTAMP:20260423T192822
CREATED:20210909T152701Z
LAST-MODIFIED:20210909T152701Z
UID:11300-1632855600-1632862800@ourbethelchurch.com
SUMMARY:Junior Youth
DESCRIPTION:Bible Study \nBring: Lawn Chair \nCome for a time of connection around the fire\, games\, and studying the bible together!
URL:https://ourbethelchurch.com/event/junior-youth-31/
LOCATION:Bethel Church
CATEGORIES:Junior Youth
END:VEVENT
END:VCALENDAR