BEGIN:VCALENDAR
VERSION:2.0
PRODID:-//Bethel Bergthaler Mennonite Church - ECPv5.12.2//NONSGML v1.0//EN
CALSCALE:GREGORIAN
METHOD:PUBLISH
X-WR-CALNAME:Bethel Bergthaler Mennonite Church
X-ORIGINAL-URL:https://ourbethelchurch.com
X-WR-CALDESC:Events for Bethel Bergthaler Mennonite Church
BEGIN:VTIMEZONE
TZID:America/Winnipeg
BEGIN:DAYLIGHT
TZOFFSETFROM:-0600
TZOFFSETTO:-0500
TZNAME:CDT
DTSTART:20220313T080000
END:DAYLIGHT
BEGIN:STANDARD
TZOFFSETFROM:-0500
TZOFFSETTO:-0600
TZNAME:CST
DTSTART:20221106T070000
END:STANDARD
END:VTIMEZONE
BEGIN:VEVENT
DTSTART;TZID=America/Winnipeg:20220412T190000
DTEND;TZID=America/Winnipeg:20220412T210000
DTSTAMP:20260423T174903
CREATED:20220406T160401Z
LAST-MODIFIED:20220406T160401Z
UID:12030-1649790000-1649797200@ourbethelchurch.com
SUMMARY:Jr. Youth
DESCRIPTION:We will be welcoming the grade 6s to come out and experience what a typical Jr. Youth night looks like! They will be invited to come and see what they have to look forward to in Fall when they are welcome to join us regularly!
URL:https://ourbethelchurch.com/event/jr-youth-87/
CATEGORIES:Junior Youth
END:VEVENT
END:VCALENDAR