BEGIN:VCALENDAR
VERSION:2.0
PRODID:-//Bethel Bergthaler Mennonite Church - ECPv5.12.2//NONSGML v1.0//EN
CALSCALE:GREGORIAN
METHOD:PUBLISH
X-WR-CALNAME:Bethel Bergthaler Mennonite Church
X-ORIGINAL-URL:https://ourbethelchurch.com
X-WR-CALDESC:Events for Bethel Bergthaler Mennonite Church
BEGIN:VTIMEZONE
TZID:America/Winnipeg
BEGIN:DAYLIGHT
TZOFFSETFROM:-0600
TZOFFSETTO:-0500
TZNAME:CDT
DTSTART:20250309T080000
END:DAYLIGHT
BEGIN:STANDARD
TZOFFSETFROM:-0500
TZOFFSETTO:-0600
TZNAME:CST
DTSTART:20251102T070000
END:STANDARD
END:VTIMEZONE
BEGIN:VEVENT
DTSTART;TZID=America/Winnipeg:20250204T190000
DTEND;TZID=America/Winnipeg:20250204T210000
DTSTAMP:20260420T162924
CREATED:20250107T184611Z
LAST-MODIFIED:20250107T184611Z
UID:14587-1738695600-1738702800@ourbethelchurch.com
SUMMARY:Jr. Youth
DESCRIPTION:Bible Study
URL:https://ourbethelchurch.com/event/jr-youth-169/
CATEGORIES:Junior Youth
END:VEVENT
END:VCALENDAR