BEGIN:VCALENDAR
VERSION:2.0
PRODID:-//Bethel Bergthaler Mennonite Church - ECPv5.12.2//NONSGML v1.0//EN
CALSCALE:GREGORIAN
METHOD:PUBLISH
X-WR-CALNAME:Bethel Bergthaler Mennonite Church
X-ORIGINAL-URL:https://ourbethelchurch.com
X-WR-CALDESC:Events for Bethel Bergthaler Mennonite Church
BEGIN:VTIMEZONE
TZID:America/Winnipeg
BEGIN:DAYLIGHT
TZOFFSETFROM:-0600
TZOFFSETTO:-0500
TZNAME:CDT
DTSTART:20220313T080000
END:DAYLIGHT
BEGIN:STANDARD
TZOFFSETFROM:-0500
TZOFFSETTO:-0600
TZNAME:CST
DTSTART:20221106T070000
END:STANDARD
END:VTIMEZONE
BEGIN:VEVENT
DTSTART;TZID=America/Winnipeg:20220727T193000
DTEND;TZID=America/Winnipeg:20220727T203000
DTSTAMP:20260424T072530
CREATED:20220721T164646Z
LAST-MODIFIED:20220721T164646Z
UID:12247-1658950200-1658953800@ourbethelchurch.com
SUMMARY:Informational Congregational Meeting
DESCRIPTION:
URL:https://ourbethelchurch.com/event/informational-congregational-meeting/
CATEGORIES:Meetings
END:VEVENT
END:VCALENDAR