BEGIN:VCALENDAR
VERSION:2.0
PRODID:-//Bethel Bergthaler Mennonite Church - ECPv5.12.2//NONSGML v1.0//EN
CALSCALE:GREGORIAN
METHOD:PUBLISH
X-WR-CALNAME:Bethel Bergthaler Mennonite Church
X-ORIGINAL-URL:https://ourbethelchurch.com
X-WR-CALDESC:Events for Bethel Bergthaler Mennonite Church
BEGIN:VTIMEZONE
TZID:America/Winnipeg
BEGIN:DAYLIGHT
TZOFFSETFROM:-0600
TZOFFSETTO:-0500
TZNAME:CDT
DTSTART:20160313T080000
END:DAYLIGHT
BEGIN:STANDARD
TZOFFSETFROM:-0500
TZOFFSETTO:-0600
TZNAME:CST
DTSTART:20161106T070000
END:STANDARD
END:VTIMEZONE
BEGIN:VEVENT
DTSTART;TZID=America/Winnipeg:20161104T193000
DTEND;TZID=America/Winnipeg:20161104T193000
DTSTAMP:20260420T074838
CREATED:20161007T142643Z
LAST-MODIFIED:20210201T050221Z
UID:2578-1478287800-1478287800@ourbethelchurch.com
SUMMARY:Guess Who's Coming for Coffee?
DESCRIPTION:Guess Who’s Coming for Coffee? @ 7:30 PM.  Please submit completed forms to Jamy Suderman’s mailbox by Sunday\, Oct 23rd.  Sign-up and have a great evening getting to know our church family!
URL:https://ourbethelchurch.com/event/guess-whos-coming-coffee-3/
CATEGORIES:Social Committee Events
END:VEVENT
END:VCALENDAR