BEGIN:VCALENDAR
VERSION:2.0
PRODID:-//Bethel Bergthaler Mennonite Church - ECPv5.12.2//NONSGML v1.0//EN
CALSCALE:GREGORIAN
METHOD:PUBLISH
X-WR-CALNAME:Bethel Bergthaler Mennonite Church
X-ORIGINAL-URL:https://ourbethelchurch.com
X-WR-CALDESC:Events for Bethel Bergthaler Mennonite Church
BEGIN:VTIMEZONE
TZID:America/Winnipeg
BEGIN:DAYLIGHT
TZOFFSETFROM:-0600
TZOFFSETTO:-0500
TZNAME:CDT
DTSTART:20190310T080000
END:DAYLIGHT
BEGIN:STANDARD
TZOFFSETFROM:-0500
TZOFFSETTO:-0600
TZNAME:CST
DTSTART:20191103T070000
END:STANDARD
END:VTIMEZONE
BEGIN:VEVENT
DTSTART;TZID=America/Winnipeg:20191205T190000
DTEND;TZID=America/Winnipeg:20191205T190000
DTSTAMP:20260425T111238
CREATED:20191129T173500Z
LAST-MODIFIED:20210201T045948Z
UID:6918-1575572400-1575572400@ourbethelchurch.com
SUMMARY:Gerald & Tina's Care Group @ Ken & Henrietta Wieler
DESCRIPTION:
URL:https://ourbethelchurch.com/event/gerald-tinas-care-group-ken-henrietta-wieler/
CATEGORIES:Care Groups
END:VEVENT
END:VCALENDAR