BEGIN:VCALENDAR
VERSION:2.0
PRODID:-//Bethel Bergthaler Mennonite Church - ECPv5.12.2//NONSGML v1.0//EN
CALSCALE:GREGORIAN
METHOD:PUBLISH
X-WR-CALNAME:Bethel Bergthaler Mennonite Church
X-ORIGINAL-URL:https://ourbethelchurch.com
X-WR-CALDESC:Events for Bethel Bergthaler Mennonite Church
BEGIN:VTIMEZONE
TZID:America/Winnipeg
BEGIN:DAYLIGHT
TZOFFSETFROM:-0600
TZOFFSETTO:-0500
TZNAME:CDT
DTSTART:20190310T080000
END:DAYLIGHT
BEGIN:STANDARD
TZOFFSETFROM:-0500
TZOFFSETTO:-0600
TZNAME:CST
DTSTART:20191103T070000
END:STANDARD
END:VTIMEZONE
BEGIN:VEVENT
DTSTART;TZID=America/Winnipeg:20190408T070000
DTEND;TZID=America/Winnipeg:20190408T070000
DTSTAMP:20260421T054341
CREATED:20190313T155022Z
LAST-MODIFIED:20210201T045953Z
UID:6121-1554706800-1554706800@ourbethelchurch.com
SUMMARY:Education Mtg @ Mulligans
DESCRIPTION:
URL:https://ourbethelchurch.com/event/education-mtg-mulligans/
CATEGORIES:Meetings
END:VEVENT
END:VCALENDAR