BEGIN:VCALENDAR
VERSION:2.0
PRODID:-//Bethel Bergthaler Mennonite Church - ECPv5.12.2//NONSGML v1.0//EN
CALSCALE:GREGORIAN
METHOD:PUBLISH
X-WR-CALNAME:Bethel Bergthaler Mennonite Church
X-ORIGINAL-URL:https://ourbethelchurch.com
X-WR-CALDESC:Events for Bethel Bergthaler Mennonite Church
BEGIN:VTIMEZONE
TZID:America/Winnipeg
BEGIN:DAYLIGHT
TZOFFSETFROM:-0600
TZOFFSETTO:-0500
TZNAME:CDT
DTSTART:20200308T080000
END:DAYLIGHT
BEGIN:STANDARD
TZOFFSETFROM:-0500
TZOFFSETTO:-0600
TZNAME:CST
DTSTART:20201101T070000
END:STANDARD
END:VTIMEZONE
BEGIN:VEVENT
DTSTART;TZID=America/Winnipeg:20200112T080000
DTEND;TZID=America/Winnipeg:20200112T170000
DTSTAMP:20260425T125047
CREATED:20191025T152430Z
LAST-MODIFIED:20210201T045947Z
UID:6749-1578816000-1578848400@ourbethelchurch.com
SUMMARY:Church Rental - Wiebe (YR&K)
DESCRIPTION:
URL:https://ourbethelchurch.com/event/church-rental-wiebe-yrf/
CATEGORIES:Rentals
END:VEVENT
END:VCALENDAR