BEGIN:VCALENDAR
VERSION:2.0
PRODID:-//Bethel Bergthaler Mennonite Church - ECPv5.12.2//NONSGML v1.0//EN
CALSCALE:GREGORIAN
METHOD:PUBLISH
X-WR-CALNAME:Bethel Bergthaler Mennonite Church
X-ORIGINAL-URL:https://ourbethelchurch.com
X-WR-CALDESC:Events for Bethel Bergthaler Mennonite Church
BEGIN:VTIMEZONE
TZID:America/Winnipeg
BEGIN:DAYLIGHT
TZOFFSETFROM:-0600
TZOFFSETTO:-0500
TZNAME:CDT
DTSTART:20220313T080000
END:DAYLIGHT
BEGIN:STANDARD
TZOFFSETFROM:-0500
TZOFFSETTO:-0600
TZNAME:CST
DTSTART:20221106T070000
END:STANDARD
END:VTIMEZONE
BEGIN:VEVENT
DTSTART;TZID=America/Winnipeg:20220619T150000
DTEND;TZID=America/Winnipeg:20220619T200000
DTSTAMP:20260424T194232
CREATED:20220526T144631Z
LAST-MODIFIED:20220526T144631Z
UID:12165-1655650800-1655668800@ourbethelchurch.com
SUMMARY:Church Picnic @ WBC
DESCRIPTION:
URL:https://ourbethelchurch.com/event/church-picnic-wbc/
CATEGORIES:Special Events,Sunday School
END:VEVENT
END:VCALENDAR