BEGIN:VCALENDAR
VERSION:2.0
PRODID:-//Bethel Bergthaler Mennonite Church - ECPv5.12.2//NONSGML v1.0//EN
CALSCALE:GREGORIAN
METHOD:PUBLISH
X-WR-CALNAME:Bethel Bergthaler Mennonite Church
X-ORIGINAL-URL:https://ourbethelchurch.com
X-WR-CALDESC:Events for Bethel Bergthaler Mennonite Church
BEGIN:VTIMEZONE
TZID:America/Winnipeg
BEGIN:DAYLIGHT
TZOFFSETFROM:-0600
TZOFFSETTO:-0500
TZNAME:CDT
DTSTART:20220313T080000
END:DAYLIGHT
BEGIN:STANDARD
TZOFFSETFROM:-0500
TZOFFSETTO:-0600
TZNAME:CST
DTSTART:20221106T070000
END:STANDARD
END:VTIMEZONE
BEGIN:VEVENT
DTSTART;TZID=America/Winnipeg:20220710T120000
DTEND;TZID=America/Winnipeg:20220710T140000
DTSTAMP:20260424T115546
CREATED:20220707T153422Z
LAST-MODIFIED:20220707T153422Z
UID:12226-1657454400-1657461600@ourbethelchurch.com
SUMMARY:Celebration of Pastor Randy
DESCRIPTION:Celebration of Pastor Randy & Cindy at church with lunch after the service! There will be a BBQ lunch with salads and desserts and a time of sharing after lunch. Families with last names beginning with A-K are invited to bring a salad and families with last names beginning with L-Z are invited to bring desserts. \n 
URL:https://ourbethelchurch.com/event/celebration-of-pastor-randy/
CATEGORIES:Special Events
END:VEVENT
END:VCALENDAR