BEGIN:VCALENDAR
VERSION:2.0
PRODID:-//Bethel Bergthaler Mennonite Church - ECPv5.12.2//NONSGML v1.0//EN
CALSCALE:GREGORIAN
METHOD:PUBLISH
X-WR-CALNAME:Bethel Bergthaler Mennonite Church
X-ORIGINAL-URL:https://ourbethelchurch.com
X-WR-CALDESC:Events for Bethel Bergthaler Mennonite Church
BEGIN:VTIMEZONE
TZID:America/Winnipeg
BEGIN:DAYLIGHT
TZOFFSETFROM:-0600
TZOFFSETTO:-0500
TZNAME:CDT
DTSTART:20200308T080000
END:DAYLIGHT
BEGIN:STANDARD
TZOFFSETFROM:-0500
TZOFFSETTO:-0600
TZNAME:CST
DTSTART:20201101T070000
END:STANDARD
END:VTIMEZONE
BEGIN:VEVENT
DTSTART;TZID=America/Winnipeg:20200128T193000
DTEND;TZID=America/Winnipeg:20200128T193000
DTSTAMP:20260425T090323
CREATED:20200116T160830Z
LAST-MODIFIED:20210201T045946Z
UID:7087-1580239800-1580239800@ourbethelchurch.com
SUMMARY:Bridal Shower and Baby Shower
DESCRIPTION:All ladies are invited to a Bridal Shower for Madison Willey (Steve Hildebrand)\nand a Baby Shower for Payton Christine (Bryan & Breanna Hoepnner)\nat 7:30 pm.  A card will be available for monetary gifts.
URL:https://ourbethelchurch.com/event/bridal-shower-and-baby-shower/
CATEGORIES:Women's Events
END:VEVENT
END:VCALENDAR