BEGIN:VCALENDAR
VERSION:2.0
PRODID:-//Bethel Bergthaler Mennonite Church - ECPv5.12.2//NONSGML v1.0//EN
CALSCALE:GREGORIAN
METHOD:PUBLISH
X-WR-CALNAME:Bethel Bergthaler Mennonite Church
X-ORIGINAL-URL:https://ourbethelchurch.com
X-WR-CALDESC:Events for Bethel Bergthaler Mennonite Church
BEGIN:VTIMEZONE
TZID:America/Winnipeg
BEGIN:DAYLIGHT
TZOFFSETFROM:-0600
TZOFFSETTO:-0500
TZNAME:CDT
DTSTART:20220313T080000
END:DAYLIGHT
BEGIN:STANDARD
TZOFFSETFROM:-0500
TZOFFSETTO:-0600
TZNAME:CST
DTSTART:20221106T070000
END:STANDARD
END:VTIMEZONE
BEGIN:VEVENT
DTSTART;TZID=America/Winnipeg:20220909T190000
DTEND;TZID=America/Winnipeg:20220909T230000
DTSTAMP:20260423T221219
CREATED:20220819T174103Z
LAST-MODIFIED:20220819T174103Z
UID:12278-1662750000-1662764400@ourbethelchurch.com
SUMMARY:Baseball & Bonfire Night
DESCRIPTION:Join us for an evening of fun at Neuenberg community centre on Friday\, September 9th @ 7:00. Baseball for ages 10+\, yard games and a bonfire. Bring your baseball glove\, a lawn chair\, and a dessert/snack to share. Everyone is welcome! \n 
URL:https://ourbethelchurch.com/event/baseball-bonfire-night/
CATEGORIES:Social Committee Events
END:VEVENT
END:VCALENDAR